BEGIN:VCALENDAR
VERSION:2.0
PRODID:-//Sophicity/Tribune/Alto, GA
BEGIN:VEVENT
DTSTAMP:20260423T101523Z
UID:ac0ffdb7-1546-4a3a-9b9c-9dc065c58fc0-3777
DTSTART:20210713T223000Z
DTEND:20210713T223000Z
CLASS:PUBLIC
SUMMARY:Work Session Meeting
END:VEVENT
END:VCALENDAR
